BEGIN:VCALENDAR
VERSION:2.0
PRODID:-//Intand Corporation//Tandem//EN
METHOD:PUBLISH
BEGIN:VEVENT
DTSTAMP:20260420T055047Z
DTSTART:20200203T153000Z
DTEND:20200203T223000Z
TRANSP:TRANSPARENT
PRIORITY:0
SUMMARY:Immersion Planning
LOCATION:Culver City Middle School > Multipurpose Room 
DESCRIPTION:Schools:\nCULVER CITY MIDDLE\n\nLocation:\nCulver City Middle 
 School > Multipurpose Room \n\n
URL;VALUE=URI:http://ccusd.tandem.co/index.php?type=view&action=event&id=6
 8494
CREATED:20200128T163737Z
LAST-MODIFIED:20200128T163737Z
UID:event-68494-culverunified1@intand.com
END:VEVENT
END:VCALENDAR
