BEGIN:VCALENDAR
VERSION:2.0
PRODID:-//Intand Corporation//Tandem//EN
METHOD:PUBLISH
BEGIN:VEVENT
DTSTAMP:20260425T000357Z
DTSTART:20241009T204500Z
DTEND:20241009T224500Z
TRANSP:TRANSPARENT
PRIORITY:0
SUMMARY:#6893 Rhino Crash Tennis Sports Camp
LOCATION:La Ballona Elementary School > Kinder Yard
DESCRIPTION:Schools:\nLA BALLONA ELEMENTARY\n\nLocation:\nLa Ballona Eleme
 ntary School > Kinder Yard\n\n
URL;VALUE=URI:http://ccusd.tandem.co/index.php?type=view&action=event&id=1
 26140
CREATED:20240809T210440Z
LAST-MODIFIED:20240809T210440Z
UID:event-126140-culverunified1@intand.com
END:VEVENT
END:VCALENDAR
